Workbook
Name POKP: PRICES!$G$166
Name PTKP: PRICES!$G$167
Name PZO: PRICES!$G$168

Sheet Калкулатор
A1: Тарифен калкулатор на разходите за достъп и пренос на природен газ през газопреносните мрежи собственост на „Булгартрансгаз“ ЕАД | D1: твърд вход | E1: 1
D2: твърд изход | E2: 1
A3: Входна точка | B3: Негру Вода/Кардам
D4: период | E4: 1 | F4: =ROUND(E4/3+0.4,0) -> 1
D5: КОД ЦЕНА ВХ | E5: =CONCATENATE(VLOOKUP(Калкулатор!B22,TXT!A23:C27,3,FALSE),"_EN_",VLOOKUP(B3,TXT!A5:B10,2,FALSE),"_",VLOOKUP(E1,TXT!A45:C46,3,FALSE)) -> Y_EN_NV_F
D6: КОД ЦЕНА ИЗХ | E6: =CONCATENATE(VLOOKUP(Калкулатор!B22,TXT!A23:C27,3,FALSE),"_EX_",VLOOKUP(B13,TXT!A13:B20,2,FALSE),"_",VLOOKUP(E2,TXT!A45:C46,3,FALSE)) -> Y_EX_EZB_F
D7: ZAD_OBSHT | E7: =VLOOKUP(Калкулатор!B13,TXT!A13:C20,3,FALSE) -> 1
D8: CENA_VH_KAP | E8: =IF(B22="годишен",VLOOKUP(Калкулатор!E5,PRICES!E3:G34,3,FALSE),IF(B22="тримесечен",VLOOKUP(E5,PRICES!E38:J69,Калкулатор!F4+2,FALSE),IF(B22="месечен",VLOOKUP(E5,PRICES!E74:R105,Калкулатор!E4+2,FALSE),VLOOKUP(Калкулатор!E5,PRICES!E109:R141,Калкулатор!E4+2,FALSE)))) -> 157.9706
D9: CENA_IZH_KAP | E9: =IF(B22="годишен",VLOOKUP(Калкулатор!E6,PRICES!E3:G34,3,FALSE),IF(B22="тримесечен",VLOOKUP(E6,PRICES!E38:J69,Калкулатор!F4+2,FALSE),IF(B22="месечен",VLOOKUP(E6,PRICES!E74:R105,Калкулатор!E4+2,FALSE),VLOOKUP(Калкулатор!E6,PRICES!E109:R141,Калкулатор!E4+2,FALSE)))) -> 389.3117
D10: CENA_PR_KAP_VH | E10: =VLOOKUP(CONCATENATE("U","_EN_",VLOOKUP(B3,TXT!A5:B10,2,FALSE),"_","U"),PRICES!E146:G160,3,FALSE) -> 2.164
D11: CENA_PR_KAP_IZH | E11: =VLOOKUP(CONCATENATE("U","_EX_",VLOOKUP(B13,TXT!A13:B20,2,FALSE),"_","U"),PRICES!E146:G160,3,FALSE) -> 5.333
A13: Изходна точка | B13: Изходна зона “България” | D13: POKR_KOL | E13: =IF(B22="годишен",365*B38,IF(B22="тримесечен",VLOOKUP(Калкулатор!A25,TXT!$C$31:$F$42,3,FALSE)*Калкулатор!B38,IF(B22="месечен",VLOOKUP(Калкулатор!A25,TXT!$D$31:$F$42,3,FALSE)*B38,IF(B22="дневен",B38,B36*B38)))) -> 0
A22: Продукт | B22: годишен | C22: =IF(ISNA(E9)," ПРОДУКТЪТ НЕ СЕ ПРЕДЛАГА !!!","")
A24: Период
A25: =IF(B22="годишен","01.10.2017 г. - 30.09.2018 г.",IF(B22="тримесечен",VLOOKUP(OFFSET(TXT!A30,Калкулатор!E4,0),TXT!A31:C42,3,FALSE),IF(B22="месечен",VLOOKUP(OFFSET(TXT!A30,Калкулатор!E4,0),TXT!A31:D42,4,FALSE),VLOOKUP(OFFSET(TXT!A30,Калкулатор!E4,0),TXT!A31:D42,4,FALSE)))) -> 01.10.2017 г. - 30.09.2018 г.
A36: Брой часове на използваемост | C36: ч.
A38: Резервиран капацитет | C38: =VLOOKUP(B22,TXT!A23:B27,2,FALSE) -> kWh/ден/година
A40: Прогнозни количества за периода | C40: kWh
A42: Количество природен газ | B42: =IF(B40="",IF(B22="годишен",365*B38,IF(B22="тримесечен",VLOOKUP(Калкулатор!A25,TXT!$C$31:$F$42,3,FALSE)*Калкулатор!B38,IF(B22="месечен",VLOOKUP(Калкулатор!A25,TXT!$D$31:$F$42,3,FALSE)*B38,IF(B22="дневен",B38,B36*B38)))),B40) -> 0 | C42: KWh
A45: Начисления:
A47: Такса достъп - входен капацитет | B47: =IF(B22="в рамките на деня",ROUND(B38*E8*B36/1000,2),ROUND(B38*E8/1000,2)) -> 0 | C47: лв. без ДДС
A49: Такса пренос - входни количества | B49: =IF(B47<>0,ROUND(B42*(POKP+PTKP)/1000,2),0) -> 0 | C49: лв. без ДДС
A51: Такса достъп - изходен капацитет | B51: =IF(ISNA(E9),0,IF(B22="в рамките на деня",ROUND(B36*B38*E9/1000,2),ROUND(B38*E9/1000,2))) -> 0 | C51: лв. без ДДС
A53: Такса пренос - изходни количества | B53: =IF(B51<>0,IF(E7=1,ROUND(B42*SUM(PRICES!G166:G168)/1000,2),ROUND(B42*SUM(PRICES!G166:G167)/1000,2)),0) -> 0 | C53: лв. без ДДС
A55: Превишен капацитет | B55: =IF(B42>E13,(B42-E13)*(E10+E11)/1000,0) -> 0 | C55: лв. без ДДС
A57: Общо начисления | B57: =SUM(B47:B55) -> 0 | C57: лв. без ДДС
A59: Тарифен калкулатор версия 1.0. автор инж.Д.Диков. Булгартрансгаз ЕАД

Sheet PRICES
F1: Цена за достъп (лв./MWh/ден/година) | G1: Твърд годишен продукт
F2: Входни точки/зони
A3: Y | B3: EN | C3: NV | D3: F | E3: =CONCATENATE(A3,"_",B3,"_",C3,"_",D3) -> Y_EN_NV_F | F3: Негру Вода/Кардам | G3: 157.9706
A4: Y | B4: EN | C4: MD | D4: F | E4: =CONCATENATE(A4,"_",B4,"_",C4,"_",D4) -> Y_EN_MD_F | F4: Местен Добив | G4: 61.5969
A5: Y | B5: EN | C5: GCH | D5: F | E5: =CONCATENATE(A5,"_",B5,"_",C5,"_",D5) -> Y_EN_GCH_F | F5: ГИС Чирен (добив) | G5: 100.3355
A6: Y | B6: EN | C6: KS | D6: F | E6: =CONCATENATE(A6,"_",B6,"_",C6,"_",D6) -> Y_EN_KS_F | F6: Кулата/Сидирокастро | G6: 236.2725
A7: Y | B7: EN | C7: RG | D7: F | E7: =CONCATENATE(A7,"_",B7,"_",C7,"_",D7) -> Y_EN_RG_F | F7: Русе/Гюргево | G7: 123.4414
A8: Y | B8: EN | C8: VTT | D8: F | E8: =CONCATENATE(A8,"_",B8,"_",C8,"_",D8) -> Y_EN_VTT_F | F8: Виртуална търговска точка | G8: 0
A9: Y | F9: Изходни точки/зони
A10: Y | B10: EX | C10: EZB | D10: F | E10: =CONCATENATE(A10,"_",B10,"_",C10,"_",D10) -> Y_EX_EZB_F | F10: Изходна зона “България” | G10: 389.3117
A11: Y | B11: EX | C11: GCH | D11: F | E11: =CONCATENATE(A11,"_",B11,"_",C11,"_",D11) -> Y_EX_GCH_F | F11: ГИС Чирен (нагнетяване) | G11: 123.4414
A12: Y | B12: EX | C12: SM | D12: F | E12: =CONCATENATE(A12,"_",B12,"_",C12,"_",D12) -> Y_EX_SM_F | F12: Странджа/Малкочлар | G12: 55.4049
A13: Y | B13: EX | C13: KS | D13: F | E13: =CONCATENATE(A13,"_",B13,"_",C13,"_",D13) -> Y_EX_KS_F | F13: Кулата/Сидирокастро | G13: 395.5713
A14: Y | B14: EX | C14: KZ | D14: F | E14: =CONCATENATE(A14,"_",B14,"_",C14,"_",D14) -> Y_EX_KZ_F | F14: Кюстендил/Жидилово | G14: 578.2203
A15: Y | B15: EX | C15: RG | D15: F | E15: =CONCATENATE(A15,"_",B15,"_",C15,"_",D15) -> Y_EX_RG_F | F15: Русе/Гюргево | G15: 333.7591
F16: Негру Вода/Кардам (backhaul)
A17: Y | B17: EX | C17: VTT | D17: F | E17: =CONCATENATE(A17,"_",B17,"_",C17,"_",D17) -> Y_EX_VTT_F | F17: Виртуална търговска точка | G17: 0
F18: Цена за достъп (лв./MWh/ден/година) | G18: Прекъсваем годишен продукт
F19: Входни точки/зони
A20: Y | B20: EN | C20: NV | D20: I | E20: =CONCATENATE(A20,"_",B20,"_",C20,"_",D20) -> Y_EN_NV_I | F20: Негру Вода/Кардам | G20: 142.1735
A21: Y | B21: EN | C21: MD | D21: I | E21: =CONCATENATE(A21,"_",B21,"_",C21,"_",D21) -> Y_EN_MD_I | F21: Местен Добив | G21: 55.4372
A22: Y | B22: EN | C22: GCH | D22: I | E22: =CONCATENATE(A22,"_",B22,"_",C22,"_",D22) -> Y_EN_GCH_I | F22: ГИС Чирен (добив) | G22: 90.302
A23: Y | B23: EN | C23: KS | D23: I | E23: =CONCATENATE(A23,"_",B23,"_",C23,"_",D23) -> Y_EN_KS_I | F23: Кулата/Сидирокастро | G23: 212.6453
A24: Y | B24: EN | C24: RG | D24: I | E24: =CONCATENATE(A24,"_",B24,"_",C24,"_",D24) -> Y_EN_RG_I | F24: Русе/Гюргево | G24: 111.0972
A25: Y | B25: EN | C25: VTT | D25: I | E25: =CONCATENATE(A25,"_",B25,"_",C25,"_",D25) -> Y_EN_VTT_I | F25: Виртуална търговска точка | G25: 0
F26: Изходни точки/зони
A27: Y | B27: EX | C27: EZB | D27: I | E27: =CONCATENATE(A27,"_",B27,"_",C27,"_",D27) -> Y_EX_EZB_I | F27: Изходна зона “България” | G27: 350.3806
A28: Y | B28: EX | C28: GCH | D28: I | E28: =CONCATENATE(A28,"_",B28,"_",C28,"_",D28) -> Y_EX_GCH_I | F28: ГИС Чирен (нагнетяване) | G28: 111.0972
A29: Y | B29: EX | C29: SM | D29: I | E29: =CONCATENATE(A29,"_",B29,"_",C29,"_",D29) -> Y_EX_SM_I | F29: Странджа/Малкочлар | G29: 49.8644
A30: Y | B30: EX | C30: KS | D30: I | E30: =CONCATENATE(A30,"_",B30,"_",C30,"_",D30) -> Y_EX_KS_I | F30: Кулата/Сидирокастро | G30: 356.0141
A31: Y | B31: EX | C31: KZ | D31: I | E31: =CONCATENATE(A31,"_",B31,"_",C31,"_",D31) -> Y_EX_KZ_I | F31: Кюстендил/Жидилово | G31: 520.3983
A32: Y | B32: EX | C32: RG | D32: I | E32: =CONCATENATE(A32,"_",B32,"_",C32,"_",D32) -> Y_EX_RG_I | F32: Русе/Гюргево | G32: 300.3832
A33: Y | B33: EX | C33: NV | D33: I | E33: =CONCATENATE(A33,"_",B33,"_",C33,"_",D33) -> Y_EX_NV_I | F33: Негру Вода/Кардам (backhaul) | G33: 78.9853
A34: Y | B34: EX | C34: VTT | D34: I | E34: =CONCATENATE(A34,"_",B34,"_",C34,"_",D34) -> Y_EX_VTT_I | F34: Виртуална търговска точка | G34: 0
F36: Цена за достъп (лв./MWh/ден/тримесечие) | G36: Твърд продукт IV тримесечие 2017 г. | H36: Твърд продукт I тримесечие 2018 г. | I36: Твърд продукт II тримесечие 2018 г. | J36: Твърд продукт III тримесечие 2018 г.
F37: Входни точки/зони
A38: Q | B38: EN | C38: NV | D38: F | E38: =CONCATENATE(A38,"_",B38,"_",C38,"_",D38) -> Q_EN_NV_F | F38: Негру Вода/Кардам | G38: 71.671 | H38: 70.113 | I38: 39.3844 | J38: 39.8172
A39: Q | B39: EN | C39: MD | D39: F | E39: =CONCATENATE(A39,"_",B39,"_",C39,"_",D39) -> Q_EN_MD_F | F39: Местен Добив | G39: 27.9464 | H39: 27.3389 | I39: 15.357 | J39: 15.5258
A40: Q | B40: EN | C40: GCH | D40: F | E40: =CONCATENATE(A40,"_",B40,"_",C40,"_",D40) -> Q_EN_GCH_F | F40: ГИС Чирен (добив) | G40: 45.5221 | H40: 44.5325 | I40: 25.0152 | J40: 25.2901
A41: Q | B41: EN | C41: KS | D41: F | E41: =CONCATENATE(A41,"_",B41,"_",C41,"_",D41) -> Q_EN_KS_F | F41: Кулата/Сидирокастро | G41: 107.1965 | H41: 104.8662 | I41: 58.9063 | J41: 59.5536
...

Sheet TXT
A1: Горна граница на кал. | B1: 10.58 | C1: кВч./м3
A4: Входни точки | B4: Код | C4: ЗО
A5: Негру Вода/Кардам | B5: NV | C5: 0
A6: Местен Добив | B6: MD | C6: 0
A7: ГИС Чирен (добив) | B7: GCH | C7: 0
A8: Кулата/Сидирокастро | B8: KS | C8: 0
A9: Русе/Гюргево | B9: RG | C9: 0
A10: Виртуална търговска точка | B10: VTT
A12: Изходни точки/зони | B12: Код | C12: ЗО
A13: Изходна зона “България” | B13: EZB | C13: 1
A14: ГИС Чирен (нагнетяване) | B14: GCH | C14: 0
A15: Странджа/Малкочлар | B15: SM | C15: 0
A16: Кулата/Сидирокастро | B16: KS | C16: 0
A17: Кюстендил/Жидилово | B17: KZ | C17: 0
A18: Русе/Гюргево | B18: RG | C18: 0
A19: Негру Вода/Кардам | B19: NV | C19: 0
A20: Виртуална търговска точка | B20: VTT | C20: 0
A22: Продукт
A23: годишен | B23: kWh/ден/година | C23: Y
A24: тримесечен | B24: kWh/ден/тримесечие | C24: Q
A25: месечен | B25: kWh/ден/месец | C25: M
A26: дневен | B26: kWh/ден | C26: D
A27: в рамките на деня | B27: kWh/час | C27: D
A30: Период месечен | B30: тримесечие | C30: тримесечие | D30: Месец период | E30: брой дни тримесечие | F30: брой дни месец
A31: октомври 2017 г. | B31: I тримесечие | C31: 01.10.2017 г. -31.12.2017 г. | D31: 01.10.2017 г. - 31.10.2017 г. | E31: =SUM(F31:F33) -> 92 | F31: 31
A32: ноември 2017 г. | B32: I тримесечие | C32: 01.10.2017 г. -31.12.2017 г. | D32: 01.11.2017 г. - 30.11.2017 г. | E32: =E31 -> 92 | F32: 30
A33: декември 2017 г. | B33: I тримесечие | C33: 01.10.2017 г. -31.12.2017 г. | D33: 01.12.2017 г. - 31.12.2017 г. | E33: =E31 -> 92 | F33: 31
A34: януари 2018 г. | B34: II тримесечие | C34: 01.01.2018 г. - 31.03.2018 г. | D34: 01.01.2018 г. - 31.01.2018 г. | E34: =SUM(F34:F36) -> 90 | F34: 31
A35: февруари 2018 г. | B35: II тримесечие | C35: 01.01.2018 г. - 31.03.2018 г. | D35: 01.02.2018 г. - 28.02.2018 г. | E35: =E34 -> 90 | F35: 28
A36: март 2018 г. | B36: II тримесечие | C36: 01.01.2018 г. - 31.03.2018 г. | D36: 01.03.2018 г. - 31.03.2018 г. | E36: =E34 -> 90 | F36: 31
A37: април 2018 г. | B37: III тримесечие | C37: 01.04.2018 г. - 30.06.2018 г. | D37: 01.04.2018 г. - 30.04.2018 г. | E37: =SUM(F37:F39) -> 91 | F37: 30
A38: май 2018 г. | B38: III тримесечие | C38: 01.04.2018 г. - 30.06.2018 г. | D38: 01.05.2018 г. - 31.05.2018 г. | E38: =E37 -> 91 | F38: 31
A39: юни 2018 г. | B39: III тримесечие | C39: 01.04.2018 г. - 30.06.2018 г. | D39: 01.06.2018 г. - 30.06.2018 г. | E39: =E37 -> 91 | F39: 30
A40: юли 2018 г. | B40: IV тримесечие | C40: 30.06.2018 г. - 30.09.2018 г. | D40: 01.07.2018 г. - 31.07.2018 г. | E40: =SUM(F40:F42) -> 92 | F40: 31
A41: август 2018 г. | B41: IV тримесечие | C41: 30.06.2018 г. - 30.09.2018 г. | D41: 01.08.2018 г. - 31.08.2018 г. | E41: =E40 -> 92 | F41: 31
A42: септември 2018 г. | B42: IV тримесечие | C42: 30.06.2018 г. - 30.09.2018 г. | D42: 01.09.2018 г. - 30.09.2018 г. | E42: =E40 -> 92 | F42: 30
A45: 1 | B45: твърд | C45: F
A46: 2 | B46: прекъсваем | C46: I
