Workbook
Name POKP: PRICES!$G$166
Name PTKP: PRICES!$G$167
Name PZO: PRICES!$G$168

Sheet Калкулатор
A1: Тарифен калкулатор на разходите за достъп и пренос на природен газ през газопреносните мрежи собственост на „Булгартрансгаз“ ЕАД | D1: твърд вход | E1: 1
D2: твърд изход | E2: 1
A3: Входна точка | B3: Негру Вода/Кардам
D4: период | E4: 1 | F4: =ROUND(E4/3+0.4,0) -> 1
D5: КОД ЦЕНА ВХ | E5: =CONCATENATE(VLOOKUP(Калкулатор!B22,TXT!A23:C27,3,FALSE),"_EN_",VLOOKUP(B3,TXT!A5:B10,2,FALSE),"_",VLOOKUP(E1,TXT!A45:C46,3,FALSE)) -> Y_EN_NV_F
D6: КОД ЦЕНА ИЗХ | E6: =CONCATENATE(VLOOKUP(Калкулатор!B22,TXT!A23:C27,3,FALSE),"_EX_",VLOOKUP(B13,TXT!A13:B20,2,FALSE),"_",VLOOKUP(E2,TXT!A45:C46,3,FALSE)) -> Y_EX_EZB_F
D7: ZAD_OBSHT | E7: =VLOOKUP(Калкулатор!B13,TXT!A13:C20,3,FALSE) -> 1
D8: CENA_VH_KAP | E8: =IF(B22="годишен",VLOOKUP(Калкулатор!E5,PRICES!E3:G34,3,FALSE),IF(B22="тримесечен",VLOOKUP(E5,PRICES!E38:J69,Калкулатор!F4+2,FALSE),IF(B22="месечен",VLOOKUP(E5,PRICES!E74:R105,Калкулатор!E4+2,FALSE),VLOOKUP(Калкулатор!E5,PRICES!E109:R141,Калкулатор!E4+2,FALSE)))) -> 157.9706
D9: CENA_IZH_KAP | E9: =IF(B22="годишен",VLOOKUP(Калкулатор!E6,PRICES!E3:G34,3,FALSE),IF(B22="тримесечен",VLOOKUP(E6,PRICES!E38:J69,Калкулатор!F4+2,FALSE),IF(B22="месечен",VLOOKUP(E6,PRICES!E74:R105,Калкулатор!E4+2,FALSE),VLOOKUP(Калкулатор!E6,PRICES!E109:R141,Калкулатор!E4+2,FALSE)))) -> 389.3117
D10: CENA_PR_KAP_VH | E10: =VLOOKUP(CONCATENATE("U","_EN_",VLOOKUP(B3,TXT!A5:B10,2,FALSE),"_","U"),PRICES!E146:G160,3,FALSE) -> 2.164
D11: CENA_PR_KAP_IZH | E11: =VLOOKUP(CONCATENATE("U","_EX_",VLOOKUP(B13,TXT!A13:B20,2,FALSE),"_","U"),PRICES!E146:G160,3,FALSE) -> 5.333
A13: Изходна точка | B13: Изходна зона “България” | D13: POKR_KOL | E13: =IF(B22="годишен",365*B38,IF(B22="тримесечен",VLOOKUP(Калкулатор!A25,TXT!$C$31:$F$42,3,FALSE)*Калкулатор!B38,IF(B22="месечен",VLOOKUP(Калкулатор!A25,TXT!$D$31:$F$42,3,FALSE)*B38,IF(B22="дневен",B38,B36*B38)))) -> 0
A22: Продукт | B22: годишен | C22: =IF(ISNA(E9)," ПРОДУКТЪТ НЕ СЕ ПРЕДЛАГА !!!","")
A24: Период
A25: =IF(B22="годишен","01.10.2017 г. - 30.09.2018 г.",IF(B22="тримесечен",VLOOKUP(OFFSET(TXT!A30,Калкулатор!E4,0),TXT!A31:C42,3,FALSE),IF(B22="месечен",VLOOKUP(OFFSET(TXT!A30,Калкулатор!E4,0),TXT!A31:D42,4,FALSE),VLOOKUP(OFFSET(TXT!A30,Калкулатор!E4,0),TXT!A31:D42,4,FALSE)))) -> 01.10.2017 г. - 30.09.2018 г.
A36: Брой часове на използваемост | C36: ч.
A38: Резервиран капацитет | C38: =VLOOKUP(B22,TXT!A23:B27,2,FALSE) -> kWh/ден/година
A40: Прогнозни количества за периода | C40: kWh
A42: Количество природен газ | B42: =IF(B40="",IF(B22="годишен",365*B38,IF(B22="тримесечен",VLOOKUP(Калкулатор!A25,TXT!$C$31:$F$42,3,FALSE)*Калкулатор!B38,IF(B22="месечен",VLOOKUP(Калкулатор!A25,TXT!$D$31:$F$42,3,FALSE)*B38,IF(B22="дневен",B38,B36*B38)))),B40) -> 0 | C42: KWh
A45: Начисления:
A47: Такса достъп - входен капацитет | B47: =IF(B22="в рамките на деня",ROUND(B38*E8*B36/1000,2),ROUND(B38*E8/1000,2)) -> 0 | C47: лв. без ДДС
A49: Такса пренос - входни количества | B49: =IF(B47<>0,ROUND(B42*(POKP+PTKP)/1000,2),0) -> 0 | C49: лв. без ДДС
A51: Такса достъп - изходен капацитет | B51: =IF(ISNA(E9),0,IF(B22="в рамките на деня",ROUND(B36*B38*E9/1000,2),ROUND(B38*E9/1000,2))) -> 0 | C51: лв. без ДДС
A53: Такса пренос - изходни количества | B53: =IF(B51<>0,IF(E7=1,ROUND(B42*SUM(PRICES!G166:G168)/1000,2),ROUND(B42*SUM(PRICES!G166:G167)/1000,2)),0) -> 0 | C53: лв. без ДДС
A55: Превишен капацитет | B55: =IF(B42>E13,(B42-E13)*(E10+E11)/1000,0) -> 0 | C55: лв. без ДДС
A57: Общо начисления | B57: =SUM(B47:B55) -> 0 | C57: лв. без ДДС
A59: Тарифен калкулатор версия 1.0. автор инж.Д.Диков. Булгартрансгаз ЕАД

Sheet PRICES
F1: Цена за достъп (лв./MWh/ден/година) | G1: Твърд годишен продукт
F2: Входни точки/зони
A3: Y | B3: EN | C3: NV | D3: F | E3: =CONCATENATE(A3,"_",B3,"_",C3,"_",D3) -> Y_EN_NV_F | F3: Негру Вода/Кардам | G3: 157.9706
A4: Y | B4: EN | C4: MD | D4: F | E4: =CONCATENATE(A4,"_",B4,"_",C4,"_",D4) -> Y_EN_MD_F | F4: Местен Добив | G4: 61.5969
A5: Y | B5: EN | C5: GCH | D5: F | E5: =CONCATENATE(A5,"_",B5,"_",C5,"_",D5) -> Y_EN_GCH_F | F5: ГИС Чирен (добив) | G5: 100.3355
A6: Y | B6: EN | C6: KS | D6: F | E6: =CONCATENATE(A6,"_",B6,"_",C6,"_",D6) -> Y_EN_KS_F | F6: Кулата/Сидирокастро | G6: 236.2725
A7: Y | B7: EN | C7: RG | D7: F | E7: =CONCATENATE(A7,"_",B7,"_",C7,"_",D7) -> Y_EN_RG_F | F7: Русе/Гюргево | G7: 123.4414
A8: Y | B8: EN | C8: VTT | D8: F | E8: =CONCATENATE(A8,"_",B8,"_",C8,"_",D8) -> Y_EN_VTT_F | F8: Виртуална търговска точка | G8: 0
A9: Y | F9: Изходни точки/зони
A10: Y | B10: EX | C10: EZB | D10: F | E10: =CONCATENATE(A10,"_",B10,"_",C10,"_",D10) -> Y_EX_EZB_F | F10: Изходна зона “България” | G10: 389.3117
A11: Y | B11: EX | C11: GCH | D11: F | E11: =CONCATENATE(A11,"_",B11,"_",C11,"_",D11) -> Y_EX_GCH_F | F11: ГИС Чирен (нагнетяване) | G11: 123.4414
A12: Y | B12: EX | C12: SM | D12: F | E12: =CONCATENATE(A12,"_",B12,"_",C12,"_",D12) -> Y_EX_SM_F | F12: Странджа/Малкочлар | G12: 55.4049
A13: Y | B13: EX | C13: KS | D13: F | E13: =CONCATENATE(A13,"_",B13,"_",C13,"_",D13) -> Y_EX_KS_F | F13: Кулата/Сидирокастро | G13: 395.5713
A14: Y | B14: EX | C14: KZ | D14: F | E14: =CONCATENATE(A14,"_",B14,"_",C14,"_",D14) -> Y_EX_KZ_F | F14: Кюстендил/Жидилово | G14: 578.2203
A15: Y | B15: EX | C15: RG | D15: F | E15: =CONCATENATE(A15,"_",B15,"_",C15,"_",D15) -> Y_EX_RG_F | F15: Русе/Гюргево | G15: 333.7591
F16: Негру Вода/Кардам (backhaul)
A17: Y | B17: EX | C17: VTT | D17: F | E17: =CONCATENATE(A17,"_",B17,"_",C17,"_",D17) -> Y_EX_VTT_F | F17: Виртуална търговска точка | G17: 0
F18: Цена за достъп (лв./MWh/ден/година) | G18: Прекъсваем годишен продукт
F19: Входни точки/зони
A20: Y | B20: EN | C20: NV | D20: I | E20: =CONCATENATE(A20,"_",B20,"_",C20,"_",D20) -> Y_EN_NV_I | F20: Негру Вода/Кардам | G20: 142.1735
A21: Y | B21: EN | C21: MD | D21: I | E21: =CONCATENATE(A21,"_",B21,"_",C21,"_",D21) -> Y_EN_MD_I | F21: Местен Добив | G21: 55.4372
A22: Y | B22: EN | C22: GCH | D22: I | E22: =CONCATENATE(A22,"_",B22,"_",C22,"_",D22) -> Y_EN_GCH_I | F22: ГИС Чирен (добив) | G22: 90.302
A23: Y | B23: EN | C23: KS | D23: I | E23: =CONCATENATE(A23,"_",B23,"_",C23,"_",D23) -> Y_EN_KS_I | F23: Кулата/Сидирокастро | G23: 212.6453
A24: Y | B24: EN | C24: RG | D24: I | E24: =CONCATENATE(A24,"_",B24,"_",C24,"_",D24) -> Y_EN_RG_I | F24: Русе/Гюргево | G24: 111.0972
A25: Y | B25: EN | C25: VTT | D25: I | E25: =CONCATENATE(A25,"_",B25,"_",C25,"_",D25) -> Y_EN_VTT_I | F25: Виртуална търговска точка | G25: 0
F26: Изходни точки/зони
A27: Y | B27: EX | C27: EZB | D27: I | E27: =CONCATENATE(A27,"_",B27,"_",C27,"_",D27) -> Y_EX_EZB_I | F27: Изходна зона “България” | G27: 350.3806
A28: Y | B28: EX | C28: GCH | D28: I | E28: =CONCATENATE(A28,"_",B28,"_",C28,"_",D28) -> Y_EX_GCH_I | F28: ГИС Чирен (нагнетяване) | G28: 111.0972
A29: Y | B29: EX | C29: SM | D29: I | E29: =CONCATENATE(A29,"_",B29,"_",C29,"_",D29) -> Y_EX_SM_I | F29: Странджа/Малкочлар | G29: 49.8644
A30: Y | B30: EX | C30: KS | D30: I | E30: =CONCATENATE(A30,"_",B30,"_",C30,"_",D30) -> Y_EX_KS_I | F30: Кулата/Сидирокастро | G30: 356.0141
A31: Y | B31: EX | C31: KZ | D31: I | E31: =CONCATENATE(A31,"_",B31,"_",C31,"_",D31) -> Y_EX_KZ_I | F31: Кюстендил/Жидилово | G31: 520.3983
A32: Y | B32: EX | C32: RG | D32: I | E32: =CONCATENATE(A32,"_",B32,"_",C32,"_",D32) -> Y_EX_RG_I | F32: Русе/Гюргево | G32: 300.3832
A33: Y | B33: EX | C33: NV | D33: I | E33: =CONCATENATE(A33,"_",B33,"_",C33,"_",D33) -> Y_EX_NV_I | F33: Негру Вода/Кардам (backhaul) | G33: 78.9853
A34: Y | B34: EX | C34: VTT | D34: I | E34: =CONCATENATE(A34,"_",B34,"_",C34,"_",D34) -> Y_EX_VTT_I | F34: Виртуална търговска точка | G34: 0
F36: Цена за достъп (лв./MWh/ден/тримесечие) | G36: Твърд продукт IV тримесечие 2017 г. | H36: Твърд продукт I тримесечие 2018 г. | I36: Твърд продукт II тримесечие 2018 г. | J36: Твърд продукт III тримесечие 2018 г.
F37: Входни точки/зони
A38: Q | B38: EN | C38: NV | D38: F | E38: =CONCATENATE(A38,"_",B38,"_",C38,"_",D38) -> Q_EN_NV_F | F38: Негру Вода/Кардам | G38: 71.671 | H38: 70.113 | I38: 39.3844 | J38: 39.8172
A39: Q | B39: EN | C39: MD | D39: F | E39: =CONCATENATE(A39,"_",B39,"_",C39,"_",D39) -> Q_EN_MD_F | F39: Местен Добив | G39: 27.9464 | H39: 27.3389 | I39: 15.357 | J39: 15.5258
A40: Q | B40: EN | C40: GCH | D40: F | E40: =CONCATENATE(A40,"_",B40,"_",C40,"_",D40) -> Q_EN_GCH_F | F40: ГИС Чирен (добив) | G40: 45.5221 | H40: 44.5325 | I40: 25.0152 | J40: 25.2901
A41: Q | B41: EN | C41: KS | D41: F | E41: =CONCATENATE(A41,"_",B41,"_",C41,"_",D41) -> Q_EN_KS_F | F41: Кулата/Сидирокастро | G41: 107.1965 | H41: 104.8662 | I41: 58.9063 | J41: 59.5536
A42: Q | B42: EN | C42: RG | D42: F | E42: =CONCATENATE(A42,"_",B42,"_",C42,"_",D42) -> Q_EN_RG_F | F42: Русе/Гюргево | G42: 56.0052 | H42: 54.7877 | I42: 30.7758 | J42: 31.114
A43: Q | B43: EN | C43: VTT | D43: F | E43: =CONCATENATE(A43,"_",B43,"_",C43,"_",D43) -> Q_EN_VTT_F | F43: Виртуална търговска точка | G43: 0 | H43: 0 | I43: 0 | J43: 0
F44: Изходни точки/зони
A45: Q | B45: EX | C45: EZB | D45: F | E45: =CONCATENATE(A45,"_",B45,"_",C45,"_",D45) -> Q_EX_EZB_F | F45: Изходна зона “България” | G45: 176.6302 | H45: 172.7904 | I45: 97.0613 | J45: 98.1279
A46: Q | B46: EX | C46: GCH | D46: F | E46: =CONCATENATE(A46,"_",B46,"_",C46,"_",D46) -> Q_EX_GCH_F | F46: ГИС Чирен (нагнетяване) | G46: 56.0052 | H46: 54.7877 | I46: 30.7758 | J46: 31.114
A47: Q | B47: EX | C47: SM | D47: F | E47: =CONCATENATE(A47,"_",B47,"_",C47,"_",D47) -> Q_EX_SM_F | F47: Странджа/Малкочлар | G47: 25.1371 | H47: 24.5907 | I47: 13.8133 | J47: 13.9651
A48: Q | B48: EX | C48: KS | D48: F | E48: =CONCATENATE(A48,"_",B48,"_",C48,"_",D48) -> Q_EX_KS_F | F48: Кулата/Сидирокастро | G48: 179.4701 | H48: 175.5686 | I48: 98.6219 | J48: 99.7056
A49: Q | B49: EX | C49: KZ | D49: F | E49: =CONCATENATE(A49,"_",B49,"_",C49,"_",D49) -> Q_EX_KZ_F | F49: Кюстендил/Жидилово | G49: 262.3378 | H49: 256.6348 | I49: 144.159 | J49: 145.7432
A50: Q | B50: EX | C50: RG | D50: F | E50: =CONCATENATE(A50,"_",B50,"_",C50,"_",D50) -> Q_EX_RG_F | F50: Русе/Гюргево | G50: 151.426 | H50: 148.1342 | I50: 83.2112 | J50: 84.1256
F51: Негру Вода/Кардам (backhaul) | G51: 0 | H51: 0 | I51: 0 | J51: 0
A52: Q | B52: EX | C52: VTT | D52: F | E52: =CONCATENATE(A52,"_",B52,"_",C52,"_",D52) -> Q_EX_VTT_F | F52: Виртуална търговска точка | G52: 0 | H52: 0 | I52: 0 | J52: 0
F53: Цена за достъп (лв./MWh/ден/тримесечие) | G53: Прекъсваем продукт IV тримесечие 2017 г. | H53: Прекъсваем продукт I тримесечие 2018 г. | I53: Прекъсваем продукт II тримесечие 2018 г. | J53: Прекъсваем продукт III тримесечие 2018 г.
F54: Входни точки/зони
A55: Q | B55: EN | C55: NV | D55: I | E55: =CONCATENATE(A55,"_",B55,"_",C55,"_",D55) -> Q_EN_NV_I | F55: Негру Вода/Кардам | G55: 64.5039 | H55: 63.1017 | I55: 35.446 | J55: 35.8355
A56: Q | B56: EN | C56: MD | D56: I | E56: =CONCATENATE(A56,"_",B56,"_",C56,"_",D56) -> Q_EN_MD_I | F56: Местен Добив | G56: 25.1518 | H56: 24.605 | I56: 13.8213 | J56: 13.9732
A57: Q | B57: EN | C57: GCH | D57: I | E57: =CONCATENATE(A57,"_",B57,"_",C57,"_",D57) -> Q_EN_GCH_I | F57: ГИС Чирен (добив) | G57: 40.9699 | H57: 40.0792 | I57: 22.5136 | J57: 22.761
A58: Q | B58: EN | C58: KS | D58: I | E58: =CONCATENATE(A58,"_",B58,"_",C58,"_",D58) -> Q_EN_KS_I | F58: Кулата/Сидирокастро | G58: 96.4769 | H58: 94.3795 | I58: 53.0157 | J58: 53.5983
A59: Q | B59: EN | C59: RG | D59: I | E59: =CONCATENATE(A59,"_",B59,"_",C59,"_",D59) -> Q_EN_RG_I | F59: Русе/Гюргево | G59: 50.4047 | H59: 49.3089 | I59: 27.6982 | J59: 28.0026
A60: Q | B60: EN | C60: VTT | D60: I | E60: =CONCATENATE(A60,"_",B60,"_",C60,"_",D60) -> Q_EN_VTT_I | F60: Виртуална търговска точка | G60: 0 | H60: 0 | I60: 0 | J60: 0
F61: Изходни точки/зони
A62: Q | B62: EX | C62: EZB | D62: I | E62: =CONCATENATE(A62,"_",B62,"_",C62,"_",D62) -> Q_EX_EZB_I | F62: Изходна зона “България” | G62: 158.9672 | H62: 155.5114 | I62: 87.3552 | J62: 88.3151
A63: Q | B63: EX | C63: GCH | D63: I | E63: =CONCATENATE(A63,"_",B63,"_",C63,"_",D63) -> Q_EX_GCH_I | F63: ГИС Чирен (нагнетяване) | G63: 50.4047 | H63: 49.3089 | I63: 27.6982 | J63: 28.0026
A64: Q | B64: EX | C64: SM | D64: I | E64: =CONCATENATE(A64,"_",B64,"_",C64,"_",D64) -> Q_EX_SM_I | F64: Странджа/Малкочлар | G64: 22.6234 | H64: 22.1316 | I64: 12.432 | J64: 12.5686
A65: Q | B65: EX | C65: KS | D65: I | E65: =CONCATENATE(A65,"_",B65,"_",C65,"_",D65) -> Q_EX_KS_I | F65: Кулата/Сидирокастро | G65: 161.5231 | H65: 158.0118 | I65: 88.7597 | J65: 89.7351
A66: Q | B66: EX | C66: KZ | D66: I | E66: =CONCATENATE(A66,"_",B66,"_",C66,"_",D66) -> Q_EX_KZ_I | F66: Кюстендил/Жидилово | G66: 236.104 | H66: 230.9713 | I66: 129.7431 | J66: 131.1689
A67: Q | B67: EX | C67: RG | D67: I | E67: =CONCATENATE(A67,"_",B67,"_",C67,"_",D67) -> Q_EX_RG_I | F67: Русе/Гюргево | G67: 136.2834 | H67: 133.3207 | I67: 74.89 | J67: 75.713
A68: Q | B68: EX | C68: NV | D68: I | E68: =CONCATENATE(A68,"_",B68,"_",C68,"_",D68) -> Q_EX_NV_I | F68: Негру Вода/Кардам (backhaul) | G68: 35.8355 | H68: 35.0565 | I68: 19.6922 | J68: 19.9086
A69: Q | B69: EX | C69: VTT | D69: I | E69: =CONCATENATE(A69,"_",B69,"_",C69,"_",D69) -> Q_EX_VTT_I | F69: Виртуална търговска точка | G69: 0 | H69: 0 | I69: 0 | J69: 0
F72: Цена за достъп (лв./MWh/ден/месец) | G72: октомври | H72: ноември | I72: декември | J72: януари | K72: февруари | L72: март | M72: април | N72: май | O72: юни | P72: юли | Q72: август | R72: септември
F73: Входни точки/зони
A74: M | B74: EN | C74: NV | D74: F | E74: =CONCATENATE(A74,"_",B74,"_",C74,"_",D74) -> M_EN_NV_F | F74: Негру Вода/Кардам | G74: 26.8334 | H74: 25.9678 | I74: 26.8334 | J74: 26.8334 | K74: 24.2366 | L74: 26.8334 | M74: 12.9839 | N74: 13.4167 | O74: 12.9839 | P74: 13.4167 | Q74: 13.4167 | R74: 12.9839
A75: M | B75: EN | C75: MD | D75: F | E75: =CONCATENATE(A75,"_",B75,"_",C75,"_",D75) -> M_EN_MD_F | F75: Местен Добив | G75: 10.463 | H75: 10.1255 | I75: 10.463 | J75: 10.463 | K75: 9.4505 | L75: 10.463 | M75: 5.0628 | N75: 5.2315 | O75: 5.0628 | P75: 5.2315 | Q75: 5.2315 | R75: 5.0628
A76: M | B76: EN | C76: GCH | D76: F | E76: =CONCATENATE(A76,"_",B76,"_",C76,"_",D76) -> M_EN_GCH_F | F76: ГИС Чирен (добив) | G76: 17.0433 | H76: 16.4935 | I76: 17.0433 | J76: 17.0433 | K76: 15.3939 | L76: 17.0433 | M76: 8.2468 | N76: 8.5216 | O76: 8.2468 | P76: 8.5216 | Q76: 8.5216 | R76: 8.2468
A77: M | B77: EN | C77: KS | D77: F | E77: =CONCATENATE(A77,"_",B77,"_",C77,"_",D77) -> M_EN_KS_F | F77: Кулата/Сидирокастро | G77: 40.134 | H77: 38.8393 | I77: 40.134 | J77: 40.134 | K77: 36.25 | L77: 40.134 | M77: 19.4197 | N77: 20.067 | O77: 19.4197 | P77: 20.067 | Q77: 20.067 | R77: 19.4197
A78: M | B78: EN | C78: RG | D78: F | E78: =CONCATENATE(A78,"_",B78,"_",C78,"_",D78) -> M_EN_RG_F | F78: Русе/Гюргево | G78: 20.9681 | H78: 20.2917 | I78: 20.9681 | J78: 20.9681 | K78: 18.9389 | L78: 20.9681 | M78: 10.1459 | N78: 10.4841 | O78: 10.1459 | P78: 10.4841 | Q78: 10.4841 | R78: 10.1459
A79: M | B79: EN | C79: VTT | D79: F | E79: =CONCATENATE(A79,"_",B79,"_",C79,"_",D79) -> M_EN_VTT_F | F79: Виртуална търговска точка | G79: 0 | H79: 0 | I79: 0 | J79: 0 | K79: 0 | L79: 0 | M79: 0 | N79: 0 | O79: 0 | P79: 0 | Q79: 0 | R79: 0
F80: Изходни точки/зони
A81: M | B81: EX | C81: EZB | D81: F | E81: =CONCATENATE(A81,"_",B81,"_",C81,"_",D81) -> M_EX_EZB_F | F81: Изходна зона “България” | G81: 66.1297 | H81: 63.9964 | I81: 66.1297 | J81: 66.1297 | K81: 59.73 | L81: 66.1297 | M81: 31.9982 | N81: 33.0648 | O81: 31.9982 | P81: 33.0648 | Q81: 33.0648 | R81: 31.9982
A82: M | B82: EX | C82: GCH | D82: F | E82: =CONCATENATE(A82,"_",B82,"_",C82,"_",D82) -> M_EX_GCH_F | F82: ГИС Чирен (нагнетяване) | G82: 20.9681 | H82: 20.2917 | I82: 20.9681 | J82: 20.9681 | K82: 18.9389 | L82: 20.9681 | M82: 10.1459 | N82: 10.4841 | O82: 10.1459 | P82: 10.4841 | Q82: 10.4841 | R82: 10.1459
A83: M | B83: EX | C83: SM | D83: F | E83: =CONCATENATE(A83,"_",B83,"_",C83,"_",D83) -> M_EX_SM_F | F83: Странджа/Малкочлар | G83: 9.4112 | H83: 9.1077 | I83: 9.4112 | J83: 9.4112 | K83: 8.5005 | L83: 9.4112 | M83: 4.5538 | N83: 4.7056 | O83: 4.5538 | P83: 4.7056 | Q83: 4.7056 | R83: 4.5538
A84: M | B84: EX | C84: KS | D84: F | E84: =CONCATENATE(A84,"_",B84,"_",C84,"_",D84) -> M_EX_KS_F | F84: Кулата/Сидирокастро | G84: 67.1929 | H84: 65.0254 | I84: 67.1929 | J84: 67.1929 | K84: 60.6904 | L84: 67.1929 | M84: 32.5127 | N84: 33.5965 | O84: 32.5127 | P84: 33.5965 | Q84: 33.5965 | R84: 32.5127
A85: M | B85: EX | C85: KZ | D85: F | E85: =CONCATENATE(A85,"_",B85,"_",C85,"_",D85) -> M_EX_KZ_F | F85: Кюстендил/Жидилово | G85: 98.2182 | H85: 95.0499 | I85: 98.2182 | J85: 98.2182 | K85: 88.7133 | L85: 98.2182 | M85: 47.525 | N85: 49.1091 | O85: 47.525 | P85: 49.1091 | Q85: 49.1091 | R85: 47.525
A86: M | B86: EX | C86: RG | D86: F | E86: =CONCATENATE(A86,"_",B86,"_",C86,"_",D86) -> M_EX_RG_F | F86: Русе/Гюргево | G86: 56.6933 | H86: 54.8645 | I86: 56.6933 | J86: 56.6933 | K86: 51.2069 | L86: 56.6933 | M86: 27.4323 | N86: 28.3467 | O86: 27.4323 | P86: 28.3467 | Q86: 28.3467 | R86: 27.4323
A87: M | B87: EX | C87: VTT | D87: F | E87: =CONCATENATE(A87,"_",B87,"_",C87,"_",D87) -> M_EX_VTT_F | F87: Виртуална търговска точка | G87: 0 | H87: 0 | I87: 0 | J87: 0 | K87: 0 | L87: 0 | M87: 0 | N87: 0 | O87: 0 | P87: 0 | Q87: 0 | R87: 0
F89: Цена за достъп (лв./MWh/ден/месец) | G89: октомври | H89: ноември | I89: декември | J89: януари | K89: февруари | L89: март | M89: април | N89: май | O89: юни | P89: юли | Q89: август | R89: септември
F90: Входни точки/зони
A91: M | B91: EN | C91: NV | D91: I | E91: =CONCATENATE(A91,"_",B91,"_",C91,"_",D91) -> M_EN_NV_I | F91: Негру Вода/Кардам | G91: 24.15 | H91: 23.371 | I91: 24.15 | J91: 24.15 | K91: 21.8129 | L91: 24.15 | M91: 11.6855 | N91: 12.075 | O91: 11.6855 | P91: 12.075 | Q91: 12.075 | R91: 11.6855
A92: M | B92: EN | C92: MD | D92: I | E92: =CONCATENATE(A92,"_",B92,"_",C92,"_",D92) -> M_EN_MD_I | F92: Местен Добив | G92: 9.4167 | H92: 9.113 | I92: 9.4167 | J92: 9.4167 | K92: 8.5054 | L92: 9.4167 | M92: 4.5565 | N92: 4.7084 | O92: 4.5565 | P92: 4.7084 | Q92: 4.7084 | R92: 4.5565
A93: M | B93: EN | C93: GCH | D93: I | E93: =CONCATENATE(A93,"_",B93,"_",C93,"_",D93) -> M_EN_GCH_I | F93: ГИС Чирен (добив) | G93: 15.339 | H93: 14.8442 | I93: 15.339 | J93: 15.339 | K93: 13.8546 | L93: 15.339 | M93: 7.4221 | N93: 7.6695 | O93: 7.4221 | P93: 7.6695 | Q93: 7.6695 | R93: 7.4221
A94: M | B94: EN | C94: KS | D94: I | E94: =CONCATENATE(A94,"_",B94,"_",C94,"_",D94) -> M_EN_KS_I | F94: Кулата/Сидирокастро | G94: 36.1206 | H94: 34.9554 | I94: 36.1206 | J94: 36.1206 | K94: 32.625 | L94: 36.1206 | M94: 17.4777 | N94: 18.0603 | O94: 17.4777 | P94: 18.0603 | Q94: 18.0603 | R94: 17.4777
A95: M | B95: EN | C95: RG | D95: I | E95: =CONCATENATE(A95,"_",B95,"_",C95,"_",D95) -> M_EN_RG_I | F95: Русе/Гюргево | G95: 18.8713 | H95: 18.2626 | I95: 18.8713 | J95: 18.8713 | K95: 17.0451 | L95: 18.8713 | M95: 9.1313 | N95: 9.4357 | O95: 9.1313 | P95: 9.4357 | Q95: 9.4357 | R95: 9.1313
A96: M | B96: EN | C96: VTT | D96: I | E96: =CONCATENATE(A96,"_",B96,"_",C96,"_",D96) -> M_EN_VTT_I | F96: Виртуална търговска точка | G96: 0 | H96: 0 | I96: 0 | J96: 0 | K96: 0 | L96: 0 | M96: 0 | N96: 0 | O96: 0 | P96: 0 | Q96: 0 | R96: 0
F97: Изходни точки/зони
A98: M | B98: EX | C98: EZB | D98: I | E98: =CONCATENATE(A98,"_",B98,"_",C98,"_",D98) -> M_EX_EZB_I | F98: Изходна зона “България” | G98: 59.5167 | H98: 57.5968 | I98: 59.5167 | J98: 59.5167 | K98: 53.757 | L98: 59.5167 | M98: 28.7984 | N98: 29.7583 | O98: 28.7984 | P98: 29.7583 | Q98: 29.7583 | R98: 28.7984
A99: M | B99: EX | C99: GCH | D99: I | E99: =CONCATENATE(A99,"_",B99,"_",C99,"_",D99) -> M_EX_GCH_I | F99: ГИС Чирен (нагнетяване) | G99: 18.8713 | H99: 18.2626 | I99: 18.8713 | J99: 18.8713 | K99: 17.0451 | L99: 18.8713 | M99: 9.1313 | N99: 9.4357 | O99: 9.1313 | P99: 9.4357 | Q99: 9.4357 | R99: 9.1313
A100: M | B100: EX | C100: SM | D100: I | E100: =CONCATENATE(A100,"_",B100,"_",C100,"_",D100) -> M_EX_SM_I | F100: Странджа/Малкочлар | G100: 8.4701 | H100: 8.1969 | I100: 8.4701 | J100: 8.4701 | K100: 7.6504 | L100: 8.4701 | M100: 4.0984 | N100: 4.2351 | O100: 4.0984 | P100: 4.2351 | Q100: 4.2351 | R100: 4.0984
A101: M | B101: EX | C101: KS | D101: I | E101: =CONCATENATE(A101,"_",B101,"_",C101,"_",D101) -> M_EX_KS_I | F101: Кулата/Сидирокастро | G101: 60.4736 | H101: 58.5229 | I101: 60.4736 | J101: 60.4736 | K101: 54.6213 | L101: 60.4736 | M101: 29.2614 | N101: 30.2368 | O101: 29.2614 | P101: 30.2368 | Q101: 30.2368 | R101: 29.2614
A102: M | B102: EX | C102: KZ | D102: I | E102: =CONCATENATE(A102,"_",B102,"_",C102,"_",D102) -> M_EX_KZ_I | F102: Кюстендил/Жидилово | G102: 88.3964 | H102: 85.5449 | I102: 88.3964 | J102: 88.3964 | K102: 79.8419 | L102: 88.3964 | M102: 42.7725 | N102: 44.1982 | O102: 42.7725 | P102: 44.1982 | Q102: 44.1982 | R102: 42.7725
A103: M | B103: EX | C103: RG | D103: I | E103: =CONCATENATE(A103,"_",B103,"_",C103,"_",D103) -> M_EX_RG_I | F103: Русе/Гюргево | G103: 51.024 | H103: 49.3781 | I103: 51.024 | J103: 51.024 | K103: 46.0862 | L103: 51.024 | M103: 24.689 | N103: 25.512 | O103: 24.689 | P103: 25.512 | Q103: 25.512 | R103: 24.689
A104: M | B104: EX | C104: NV | D104: I | E104: =CONCATENATE(A104,"_",B104,"_",C104,"_",D104) -> M_EX_NV_I | F104: Негру Вода/Кардам (backhaul) | G104: 13.4167 | H104: 12.9839 | I104: 13.4167 | J104: 13.4167 | K104: 12.1183 | L104: 13.4167 | M104: 6.4919 | N104: 6.7083 | O104: 6.4919 | P104: 6.7083 | Q104: 6.7083 | R104: 6.4919
...

Sheet TXT
A1: Горна граница на кал. | B1: 10.58 | C1: кВч./м3
A4: Входни точки | B4: Код | C4: ЗО
A5: Негру Вода/Кардам | B5: NV | C5: 0
A6: Местен Добив | B6: MD | C6: 0
A7: ГИС Чирен (добив) | B7: GCH | C7: 0
A8: Кулата/Сидирокастро | B8: KS | C8: 0
A9: Русе/Гюргево | B9: RG | C9: 0
A10: Виртуална търговска точка | B10: VTT
A12: Изходни точки/зони | B12: Код | C12: ЗО
A13: Изходна зона “България” | B13: EZB | C13: 1
A14: ГИС Чирен (нагнетяване) | B14: GCH | C14: 0
A15: Странджа/Малкочлар | B15: SM | C15: 0
A16: Кулата/Сидирокастро | B16: KS | C16: 0
A17: Кюстендил/Жидилово | B17: KZ | C17: 0
A18: Русе/Гюргево | B18: RG | C18: 0
A19: Негру Вода/Кардам | B19: NV | C19: 0
A20: Виртуална търговска точка | B20: VTT | C20: 0
A22: Продукт
A23: годишен | B23: kWh/ден/година | C23: Y
A24: тримесечен | B24: kWh/ден/тримесечие | C24: Q
A25: месечен | B25: kWh/ден/месец | C25: M
A26: дневен | B26: kWh/ден | C26: D
A27: в рамките на деня | B27: kWh/час | C27: D
A30: Период месечен | B30: тримесечие | C30: тримесечие | D30: Месец период | E30: брой дни тримесечие | F30: брой дни месец
A31: октомври 2017 г. | B31: I тримесечие | C31: 01.10.2017 г. -31.12.2017 г. | D31: 01.10.2017 г. - 31.10.2017 г. | E31: =SUM(F31:F33) -> 92 | F31: 31
A32: ноември 2017 г. | B32: I тримесечие | C32: 01.10.2017 г. -31.12.2017 г. | D32: 01.11.2017 г. - 30.11.2017 г. | E32: =E31 -> 92 | F32: 30
A33: декември 2017 г. | B33: I тримесечие | C33: 01.10.2017 г. -31.12.2017 г. | D33: 01.12.2017 г. - 31.12.2017 г. | E33: =E31 -> 92 | F33: 31
A34: януари 2018 г. | B34: II тримесечие | C34: 01.01.2018 г. - 31.03.2018 г. | D34: 01.01.2018 г. - 31.01.2018 г. | E34: =SUM(F34:F36) -> 90 | F34: 31
A35: февруари 2018 г. | B35: II тримесечие | C35: 01.01.2018 г. - 31.03.2018 г. | D35: 01.02.2018 г. - 28.02.2018 г. | E35: =E34 -> 90 | F35: 28
A36: март 2018 г. | B36: II тримесечие | C36: 01.01.2018 г. - 31.03.2018 г. | D36: 01.03.2018 г. - 31.03.2018 г. | E36: =E34 -> 90 | F36: 31
A37: април 2018 г. | B37: III тримесечие | C37: 01.04.2018 г. - 30.06.2018 г. | D37: 01.04.2018 г. - 30.04.2018 г. | E37: =SUM(F37:F39) -> 91 | F37: 30
A38: май 2018 г. | B38: III тримесечие | C38: 01.04.2018 г. - 30.06.2018 г. | D38: 01.05.2018 г. - 31.05.2018 г. | E38: =E37 -> 91 | F38: 31
A39: юни 2018 г. | B39: III тримесечие | C39: 01.04.2018 г. - 30.06.2018 г. | D39: 01.06.2018 г. - 30.06.2018 г. | E39: =E37 -> 91 | F39: 30
A40: юли 2018 г. | B40: IV тримесечие | C40: 30.06.2018 г. - 30.09.2018 г. | D40: 01.07.2018 г. - 31.07.2018 г. | E40: =SUM(F40:F42) -> 92 | F40: 31
A41: август 2018 г. | B41: IV тримесечие | C41: 30.06.2018 г. - 30.09.2018 г. | D41: 01.08.2018 г. - 31.08.2018 г. | E41: =E40 -> 92 | F41: 31
A42: септември 2018 г. | B42: IV тримесечие | C42: 30.06.2018 г. - 30.09.2018 г. | D42: 01.09.2018 г. - 30.09.2018 г. | E42: =E40 -> 92 | F42: 30
A45: 1 | B45: твърд | C45: F
A46: 2 | B46: прекъсваем | C46: I
